BEGIN:VCALENDAR
VERSION:2.0
PRODID:-//wp-events-plugin.com//7.2.3.1//EN
TZID:Europe/Amsterdam
X-WR-TIMEZONE:Europe/Amsterdam
BEGIN:VEVENT
UID:9194@buurtcentrumkalsdonk.nl
DTSTART;TZID=Europe/Amsterdam:20260204T130000
DTEND;TZID=Europe/Amsterdam:20260204T160000
DTSTAMP:20260106T193401Z
URL:https://www.buurtcentrumkalsdonk.nl/agenda/toneelmiddag-zonnebloem/
SUMMARY:Toneelmiddag Zonnebloem
DESCRIPTION:Inloop: 13.00uur\nAanvang: 13.30 uur\n\n\n\n&nbsp\;\n\n&nbsp\;\
 n\n&nbsp\;\n\n&nbsp\;\n\n&nbsp\;\n\n(Tik op de afbeelding voor een groter 
 exemplaar)
CATEGORIES:Sociaal
END:VEVENT
BEGIN:VTIMEZONE
TZID:Europe/Amsterdam
X-LIC-LOCATION:Europe/Amsterdam
BEGIN:STANDARD
DTSTART:20251026T020000
TZOFFSETFROM:+0200
TZOFFSETTO:+0100
TZNAME:CET
END:STANDARD
END:VTIMEZONE
END:VCALENDAR