BEGIN:VCALENDAR
VERSION:2.0
PRODID:-//wp-events-plugin.com//7.2.3.1//EN
TZID:Europe/Amsterdam
X-WR-TIMEZONE:Europe/Amsterdam
BEGIN:VEVENT
UID:4607@buurtcentrumkalsdonk.nl
DTSTART;TZID=Europe/Amsterdam:20250129T130000
DTEND;TZID=Europe/Amsterdam:20250129T130000
DTSTAMP:20250103T212136Z
URL:https://www.buurtcentrumkalsdonk.nl/agenda/toneelmiddag/
SUMMARY:TONEELMIDDAG
DESCRIPTION:
CATEGORIES:Sociaal
END:VEVENT
BEGIN:VTIMEZONE
TZID:Europe/Amsterdam
X-LIC-LOCATION:Europe/Amsterdam
BEGIN:STANDARD
DTSTART:20241027T020000
TZOFFSETFROM:+0200
TZOFFSETTO:+0100
TZNAME:CET
END:STANDARD
END:VTIMEZONE
END:VCALENDAR