BEGIN:VCALENDAR
VERSION:2.0
PRODID:-//wp-events-plugin.com//7.2.3.1//EN
TZID:Europe/Amsterdam
X-WR-TIMEZONE:Europe/Amsterdam
BEGIN:VEVENT
UID:7515@buurtcentrumkalsdonk.nl
DTSTART;TZID=Europe/Amsterdam:20251027T110000
DTEND;TZID=Europe/Amsterdam:20251027T120000
DTSTAMP:20250815T092341Z
URL:https://www.buurtcentrumkalsdonk.nl/agenda/valpreventie-2-2025-10-27/
SUMMARY:Valpreventie
DESCRIPTION:Informatiebijeenkomst Valpreventie\nMaandag 22 september van 10
 .00-12.00uur\nDe cursus start op maandag 29 september en vindt wekelijks p
 laats van 11.00 tot 12.00uur.
CATEGORIES:Beweging,Educatie,Welzijn
END:VEVENT
BEGIN:VTIMEZONE
TZID:Europe/Amsterdam
X-LIC-LOCATION:Europe/Amsterdam
BEGIN:STANDARD
DTSTART:20251026T020000
TZOFFSETFROM:+0200
TZOFFSETTO:+0100
TZNAME:CET
END:STANDARD
END:VTIMEZONE
END:VCALENDAR