BEGIN:VCALENDAR
VERSION:2.0
PRODID:-//wp-events-plugin.com//7.2.3.1//EN
TZID:Europe/Amsterdam
X-WR-TIMEZONE:Europe/Amsterdam
BEGIN:VEVENT
UID:7694@buurtcentrumkalsdonk.nl
DTSTART;TZID=Europe/Amsterdam:20260119T110000
DTEND;TZID=Europe/Amsterdam:20260119T120000
DTSTAMP:20251229T185951Z
URL:https://www.buurtcentrumkalsdonk.nl/agenda/valpreventie-3-2026-01-05-2
 026-01-12-2026-01-19/
SUMMARY:Valpreventie
DESCRIPTION:Elke maandag 11.00u-12.00u
CATEGORIES:Beweging,Educatie
END:VEVENT
BEGIN:VTIMEZONE
TZID:Europe/Amsterdam
X-LIC-LOCATION:Europe/Amsterdam
BEGIN:STANDARD
DTSTART:20251026T020000
TZOFFSETFROM:+0200
TZOFFSETTO:+0100
TZNAME:CET
END:STANDARD
END:VTIMEZONE
END:VCALENDAR