BEGIN:VCALENDAR
VERSION:2.0
PRODID:-//wp-events-plugin.com//7.2.3.1//EN
TZID:Europe/Amsterdam
X-WR-TIMEZONE:Europe/Amsterdam
BEGIN:VEVENT
UID:8813@buurtcentrumkalsdonk.nl
DTSTART;TZID=Europe/Amsterdam:20260709T133000
DTEND;TZID=Europe/Amsterdam:20260709T143000
DTSTAMP:20251230T114052Z
URL:https://www.buurtcentrumkalsdonk.nl/agenda/vrouwen-sport-4-2026-01-08-
 2026-01-15-2026-01-22-2026-01-29-2026-02-05-2026-02-12-2026-02-19-2026-02-
 26-2026-03-05-2026-03-12-2026-03-19-2026-03-26-2026-04-02-2026-04-09-2026-
 04-16-2026-02-2026-07-09/
SUMMARY:Vrouwen Sport
DESCRIPTION:Donderdag 13.30u-14.30u\n\nDe vrouwensport is onderdeel van de 
 wijksportvereniging Kalsdonk
CATEGORIES:Beweging
END:VEVENT
BEGIN:VTIMEZONE
TZID:Europe/Amsterdam
X-LIC-LOCATION:Europe/Amsterdam
BEGIN:DAYLIGHT
DTSTART:20260329T030000
TZOFFSETFROM:+0100
TZOFFSETTO:+0200
TZNAME:CEST
END:DAYLIGHT
END:VTIMEZONE
END:VCALENDAR