BEGIN:VCALENDAR
VERSION:2.0
PRODID:-//wp-events-plugin.com//7.2.3.1//EN
TZID:Europe/Amsterdam
X-WR-TIMEZONE:Europe/Amsterdam
BEGIN:VEVENT
UID:2415@buurtcentrumkalsdonk.nl
DTSTART;TZID=Europe/Amsterdam:20241218T193000
DTEND;TZID=Europe/Amsterdam:20241218T230000
DTSTAMP:20240117T160549Z
URL:https://www.buurtcentrumkalsdonk.nl/agenda/vvk-2-2024-12-18/
SUMMARY:VVK
DESCRIPTION:Vrouwen Vereniging Kalsdonk\nWoensdag 2x per maand 19.30u-23.00
 u\nIedere woensdag avond wordt er vanaf 19.30u (inloop vanaf 18.45u) tot o
 ngeveer 21.45u / 22.00u een leuke activiteit georganiseerd door de vrouwen
 vereniging.\nDeze vereniging telt op dit moment zo’n 38 leden: een gezel
 lige groep dus!\nActiviteiten die georganiseerd worden zijn bijvoorbeeld: 
 spelavonden\, kaartavonden\, modeshows\, moederdagviering met muziek\, ker
 stviering met bingo\, bingo enz..\n\nIn 2024 zal de Vrouwenvereniging 65 j
 aar bestaan en dit zal zeker gevierd worden.\nDe contributie bedraagt €3
 0\,- per jaar en vrouwen die geïnteresseerd zijn om lid te worden\, mogen
  1 avond mee draaien om te kijken of ze het leuk vinden.\n\n\n\nDe agenda 
 voor 2024:\n*24 januari : spellenavond + loterij\n*14 februari: Bingo\n*21
  februari: jaarvergadering + bingo\n*13 maart: sieraden maken met Monique 
 +loterij\n*27 maart: paasbingo\n*10 april : bingo\n*24 april: kaarten +lot
 erij\n*8 mei: moederdagviering/loterij\n*22 mei: bingo\n*12 juni: 65 jarig
  bestaan. Feestdag vanaf 13.00 uur.\n*26 juni: vakantie- bingo\n- zomersto
 p\n*28 augustus: bingo\n*11 september: spellenavond +loterij\n*25 septembe
 r: bingo\n*9 oktober: bingo\n*23 oktober: kledingparty + loterij\n*13 nove
 mber: kaarten +loterij\n*27 november: Sinterklaas bingo\n*4 december: bing
 o\n*18 december: kerstviering/ bingo\n\n\n\n\n\nFoto's van een gezellige b
 ingo-avond bij de VVK:\n\n\n\n\n
CATEGORIES:Sociaal
END:VEVENT
BEGIN:VTIMEZONE
TZID:Europe/Amsterdam
X-LIC-LOCATION:Europe/Amsterdam
BEGIN:STANDARD
DTSTART:20241027T020000
TZOFFSETFROM:+0200
TZOFFSETTO:+0100
TZNAME:CET
END:STANDARD
END:VTIMEZONE
END:VCALENDAR