BEGIN:VCALENDAR
VERSION:2.0
PRODID:-//wp-events-plugin.com//7.2.3.1//EN
TZID:Europe/Amsterdam
X-WR-TIMEZONE:Europe/Amsterdam
BEGIN:VEVENT
UID:8652@buurtcentrumkalsdonk.nl
DTSTART;TZID=Europe/Amsterdam:20261104T193000
DTEND;TZID=Europe/Amsterdam:20261104T213000
DTSTAMP:20251229T195114Z
URL:https://www.buurtcentrumkalsdonk.nl/agenda/vvk-3-2026-01-07-2026-01-14
 -2026-01-21-2026-01-28-2026-02-04-2026-02-11-2026-02-18-2026-02-25-2026-03
 -04-2026-03-11-2026-03-18-2026-03-25-2026-04-01-2026-04-08-2026-04-15-2026
 -04-22-2026-28-2026-11-04/
SUMMARY:VVK
DESCRIPTION:Vrouwen Vereniging Kalsdonk\nWoensdag 2x per maand 19.30u-21.30
 u\nIedere woensdag avond wordt er vanaf 19.30u (inloop vanaf 18.45u) tot o
 ngeveer 21.30u / 21.45u een leuke activiteit georganiseerd door de vrouwen
 vereniging.\nDeze vereniging telt op dit moment zo’n 38 leden: een gezel
 lige groep dus!\nActiviteiten die georganiseerd worden zijn bijvoorbeeld: 
 spelavonden\, kaartavonden\, modeshows\, moederdagviering met muziek\, ker
 stviering met bingo\, bingo enz..\n\nIn 2024 bestond de Vrouwenvereniging 
 alweer 65 jaar en dit werd dan ook gevierd!\nVrouwen die geïnteresseerd z
 ijn om lid te worden\, mogen 1 avond gratis mee draaien om te kijken of ze
  het leuk vinden.\nDaarna is er sprake van een jaarlijkse contributie.\n\n
 Foto's van een gezellige bingo-avond bij de VVK:\n\n\n\n\n
CATEGORIES:Sociaal
END:VEVENT
BEGIN:VTIMEZONE
TZID:Europe/Amsterdam
X-LIC-LOCATION:Europe/Amsterdam
BEGIN:STANDARD
DTSTART:20261025T020000
TZOFFSETFROM:+0200
TZOFFSETTO:+0100
TZNAME:CET
END:STANDARD
END:VTIMEZONE
END:VCALENDAR