BEGIN:VCALENDAR
VERSION:2.0
PRODID:-//wp-events-plugin.com//7.2.3.1//EN
TZID:Europe/Amsterdam
X-WR-TIMEZONE:Europe/Amsterdam
BEGIN:VEVENT
UID:8899@buurtcentrumkalsdonk.nl
DTSTART;TZID=Europe/Amsterdam:20260319T110000
DTEND;TZID=Europe/Amsterdam:20260319T120000
DTSTAMP:20251230T114441Z
URL:https://www.buurtcentrumkalsdonk.nl/agenda/wandelgroep-kalsdonk-2026-0
 1-08-2026-01-15-2026-01-22-2026-01-29-2026-02-05-2026-02-12-2026-02-19-202
 6-02-26-2026-03-05-2026-03-12-2026-03-19/
SUMMARY:Wandelgroep Kalsdonk
DESCRIPTION:Van 11.00-12.00 uur maken we gezamenlijk een fijne wandeling.
CATEGORIES:Beweging
END:VEVENT
BEGIN:VTIMEZONE
TZID:Europe/Amsterdam
X-LIC-LOCATION:Europe/Amsterdam
BEGIN:STANDARD
DTSTART:20251026T020000
TZOFFSETFROM:+0200
TZOFFSETTO:+0100
TZNAME:CET
END:STANDARD
END:VTIMEZONE
END:VCALENDAR