BEGIN:VCALENDAR
VERSION:2.0
PRODID:-//wp-events-plugin.com//7.2.3.1//EN
TZID:Europe/Amsterdam
X-WR-TIMEZONE:Europe/Amsterdam
BEGIN:VEVENT
UID:7989@buurtcentrumkalsdonk.nl
DTSTART;TZID=Europe/Amsterdam:20261109T180000
DTEND;TZID=Europe/Amsterdam:20261109T210000
DTSTAMP:20251229T190651Z
URL:https://www.buurtcentrumkalsdonk.nl/agenda/wereldkeuken-2-2026-01-05-2
 026-01-12-2026-01-19-2026-01-26-2026-02-02-2026-02-09-2026-02-16-2026-02-2
 3-2026-03-02-2026-03-09-2026-03-16-2026-03-23-2026-03-30-2026-04-06-2026-0
 4-13-2026-0-02-2026-11-09/
SUMMARY:Wereldkeuken
DESCRIPTION:Mijn Wereldkeuken\n\nHoud je van koken? Wil je nieuwe mensen on
 tmoeten en andere culturen proeven?\nKom dan met ons koken op maandagavond
 !\nhttps://www.facebook.com › mijnwereldkeuken\n\n\n(klik op de afbeel
 ding voor meer info)\n\n&nbsp\;\n\n&nbsp\;
CATEGORIES:Sociaal,Welzijn
END:VEVENT
BEGIN:VTIMEZONE
TZID:Europe/Amsterdam
X-LIC-LOCATION:Europe/Amsterdam
BEGIN:STANDARD
DTSTART:20261025T020000
TZOFFSETFROM:+0200
TZOFFSETTO:+0100
TZNAME:CET
END:STANDARD
END:VTIMEZONE
END:VCALENDAR