BEGIN:VCALENDAR
VERSION:2.0
PRODID:-//wp-events-plugin.com//7.2.3.1//EN
TZID:Europe/Amsterdam
X-WR-TIMEZONE:Europe/Amsterdam
BEGIN:VEVENT
UID:9144@buurtcentrumkalsdonk.nl
DTSTART;TZID=Europe/Amsterdam:20260106T160000
DTEND;TZID=Europe/Amsterdam:20260106T170000
DTSTAMP:20251230T122103Z
URL:https://www.buurtcentrumkalsdonk.nl/agenda/wijktafel-3-2026-01-06/
SUMMARY:Wijktafel
DESCRIPTION:1x per maand wijktafel van 16.00-17.00 uur.\nDe datum wordt voo
 raf bekend gemaakt.
CATEGORIES:Welzijn
END:VEVENT
BEGIN:VTIMEZONE
TZID:Europe/Amsterdam
X-LIC-LOCATION:Europe/Amsterdam
BEGIN:STANDARD
DTSTART:20251026T020000
TZOFFSETFROM:+0200
TZOFFSETTO:+0100
TZNAME:CET
END:STANDARD
END:VTIMEZONE
END:VCALENDAR